BEGIN:VCALENDAR
VERSION:2.0
PRODID:-//hacksw/handcal//NONSGML v1.0//EN
CALSCALE:GREGORIAN
BEGIN:VTIMEZONE
TZID:Europe/London
BEGIN:STANDARD
TZNAME:GMT
DTSTART:19710101T020000
TZOFFSETFROM:+0100
TZOFFSETTO:+0000
RRULE:FREQ=YEARLY;BYMONTH=10;BYDAY=-1SU
END:STANDARD
BEGIN:DAYLIGHT
TZNAME:BST
DTSTART:19710101T010000
TZOFFSETFROM:+0000
TZOFFSETTO:+0100
RRULE:FREQ=YEARLY;BYMONTH=3;BYDAY=-1SU
END:DAYLIGHT
END:VTIMEZONE
BEGIN:VEVENT
DTEND;TZID=Europe/London:20111109T000000
UID:69e7bd44a7a21
DTSTAMP;TZID=Europe/London:20260421T180908Z
LOCATION:London School of Economics and Political Science (LSE)
DESCRIPTION:Part of the 'Climate Change and Environment Seminar Series: Michaelmas Term 2011'\, hosted jointly by the Grantham Research Institute\, the Centre for Climate Change Economics and Policy\, and LSE's Department of Geography and Environment.
URL;VALUE=URI:https://www.cccep.ac.uk/event/carbon-markets-regulation-the-case-for-a-co2-central-bank/
SUMMARY:Carbon Markets Regulation: the case for a CO2 Central Bank
DTSTART;TZID=Europe/London:20111109T000000
END:VEVENT
END:VCALENDAR