BEGIN:VCALENDAR
VERSION:2.0
PRODID:-//hacksw/handcal//NONSGML v1.0//EN
CALSCALE:GREGORIAN
BEGIN:VTIMEZONE
TZID:Europe/London
BEGIN:STANDARD
TZNAME:GMT
DTSTART:19710101T020000
TZOFFSETFROM:+0100
TZOFFSETTO:+0000
RRULE:FREQ=YEARLY;BYMONTH=10;BYDAY=-1SU
END:STANDARD
BEGIN:DAYLIGHT
TZNAME:BST
DTSTART:19710101T010000
TZOFFSETFROM:+0000
TZOFFSETTO:+0100
RRULE:FREQ=YEARLY;BYMONTH=3;BYDAY=-1SU
END:DAYLIGHT
END:VTIMEZONE
BEGIN:VEVENT
DTEND;TZID=Europe/London:20170125T171500
UID:69e6c8427496c
DTSTAMP;TZID=Europe/London:20260421T004346Z
LOCATION:School of Earth and Environment\, Seminar Rooms 8.119
DESCRIPTION:<em>Part of the 2016-17 Programme of Sustainability Seminars hosted by the School of Earth and Environment\, University of Leeds.</em>

Seminar by Prof. Håvard Haarstad\, Research Professor\, Department of Geography at the University of Bergen

<strong>More details on this seminar will be provided shortly.</strong>
URL;VALUE=URI:https://www.cccep.ac.uk/event/carbonscapes-and-beyond-conceptualizing-the-instabilities-of-oil-landscapes/
SUMMARY:Carbonscapes and beyond: conceptualizing the instabilities of oil landscapes
DTSTART;TZID=Europe/London:20170125T160000
END:VEVENT
END:VCALENDAR