BEGIN:VCALENDAR
VERSION:2.0
PRODID:-//hacksw/handcal//NONSGML v1.0//EN
CALSCALE:GREGORIAN
BEGIN:VTIMEZONE
TZID:Europe/London
BEGIN:STANDARD
TZNAME:GMT
DTSTART:19710101T020000
TZOFFSETFROM:+0100
TZOFFSETTO:+0000
RRULE:FREQ=YEARLY;BYMONTH=10;BYDAY=-1SU
END:STANDARD
BEGIN:DAYLIGHT
TZNAME:BST
DTSTART:19710101T010000
TZOFFSETFROM:+0000
TZOFFSETTO:+0100
RRULE:FREQ=YEARLY;BYMONTH=3;BYDAY=-1SU
END:DAYLIGHT
END:VTIMEZONE
BEGIN:VEVENT
DTEND;TZID=Europe/London:20170321T193000
UID:69e6836ca68cc
DTSTAMP;TZID=Europe/London:20260420T195004Z
LOCATION:NAB 2.04\, New Academic Building\, LSE
DESCRIPTION:<strong>LSE Law\, Grantham Research Institute and ESRC Centre for Climate Change Economics and Policy public event</strong>

Speakers:
Welcome by Joana Setzer (Grantham Research Institute & Centre for Climate Change Economics and Policy\, LSE)
Hari Osofsky (University of Minnesota Law School)
Gillian Lobo (ClientEarth)

<span class="text_exposed_show">Chaired by Veerle Heyvaert (LSE Law)</span>

This event is free to attend with no ticket or pre-registration required. Seats are allocated on a first come first served basis.

<span class="text_exposed_show">Suggested hashtag: <strong>#LSEClimateCourts</strong></span>

 
URL;VALUE=URI:https://www.cccep.ac.uk/event/climate-change-litigation-courts-to-the-rescue/
SUMMARY:Climate change litigation: courts to the rescue?
DTSTART;TZID=Europe/London:20170321T180000
END:VEVENT
END:VCALENDAR