BEGIN:VCALENDAR
VERSION:2.0
PRODID:-//hacksw/handcal//NONSGML v1.0//EN
CALSCALE:GREGORIAN
BEGIN:VTIMEZONE
TZID:Europe/London
BEGIN:STANDARD
TZNAME:GMT
DTSTART:19710101T020000
TZOFFSETFROM:+0100
TZOFFSETTO:+0000
RRULE:FREQ=YEARLY;BYMONTH=10;BYDAY=-1SU
END:STANDARD
BEGIN:DAYLIGHT
TZNAME:BST
DTSTART:19710101T010000
TZOFFSETFROM:+0000
TZOFFSETTO:+0100
RRULE:FREQ=YEARLY;BYMONTH=3;BYDAY=-1SU
END:DAYLIGHT
END:VTIMEZONE
BEGIN:VEVENT
DTEND;TZID=Europe/London:20170517T140000
UID:69e69a693a13d
DTSTAMP;TZID=Europe/London:20260420T212809Z
LOCATION:London School of Economics\, Tower 2\, Room 9.04\,
DESCRIPTION:Charles Palmer\, Assistant Professor of Environment and Development at the London School of Economics\, will be the speaker for this seminar.

This seminar is open to all LSE staff and students. If you are from outside the LSE and would like to attend\, please email Gri.Events@lse.ac.uk to register for a place.
URL;VALUE=URI:https://www.cccep.ac.uk/event/grantham-workshop-charles-palmer-3/
SUMMARY:Grantham Workshop | Charles Palmer
DTSTART;TZID=Europe/London:20170517T123000
END:VEVENT
END:VCALENDAR