BEGIN:VCALENDAR
VERSION:2.0
PRODID:-//hacksw/handcal//NONSGML v1.0//EN
CALSCALE:GREGORIAN
BEGIN:VTIMEZONE
TZID:Europe/London
BEGIN:STANDARD
TZNAME:GMT
DTSTART:19710101T020000
TZOFFSETFROM:+0100
TZOFFSETTO:+0000
RRULE:FREQ=YEARLY;BYMONTH=10;BYDAY=-1SU
END:STANDARD
BEGIN:DAYLIGHT
TZNAME:BST
DTSTART:19710101T010000
TZOFFSETFROM:+0000
TZOFFSETTO:+0100
RRULE:FREQ=YEARLY;BYMONTH=3;BYDAY=-1SU
END:DAYLIGHT
END:VTIMEZONE
BEGIN:VEVENT
DTEND;TZID=Europe/London:20160420T000000
UID:69e717d1eea4b
DTSTAMP;TZID=Europe/London:20260421T062313Z
LOCATION:London School of Economics\, Tower 2\, Room 9.04
DESCRIPTION:Hélia Costa\, Research Officer at the Grantham Research Institute\, will be the speaker for this seminar.
URL;VALUE=URI:https://www.cccep.ac.uk/event/grantham-workshop-helia-costa-gone-with-the-wind-local-employment-impact-of-wind-energy-investment/
SUMMARY:Grantham Workshop | Hélia Costa “Gone with the wind? Local employment impact of wind energy investment”
DTSTART;TZID=Europe/London:20160420T000000
END:VEVENT
END:VCALENDAR