BEGIN:VCALENDAR
VERSION:2.0
PRODID:-//hacksw/handcal//NONSGML v1.0//EN
CALSCALE:GREGORIAN
BEGIN:VTIMEZONE
TZID:Europe/London
BEGIN:STANDARD
TZNAME:GMT
DTSTART:19710101T020000
TZOFFSETFROM:+0100
TZOFFSETTO:+0000
RRULE:FREQ=YEARLY;BYMONTH=10;BYDAY=-1SU
END:STANDARD
BEGIN:DAYLIGHT
TZNAME:BST
DTSTART:19710101T010000
TZOFFSETFROM:+0000
TZOFFSETTO:+0100
RRULE:FREQ=YEARLY;BYMONTH=3;BYDAY=-1SU
END:DAYLIGHT
END:VTIMEZONE
BEGIN:VEVENT
DTEND;TZID=Europe/London:20161116T140000
UID:69e6f71941208
DTSTAMP;TZID=Europe/London:20260421T040337Z
LOCATION:London School of Economics\, Tower 2\, Room 9.04
DESCRIPTION:Roger Fouquet\, Associate Professorial Research Fellow at the Grantham Research Institute on Climate Change and the Environment\, will be the speaker for this seminar.
URL;VALUE=URI:https://www.cccep.ac.uk/event/grantham-workshop-roger-fouquet/
SUMMARY:Grantham Workshop | Roger Fouquet
DTSTART;TZID=Europe/London:20161116T123000
END:VEVENT
END:VCALENDAR