BEGIN:VCALENDAR
VERSION:2.0
PRODID:-//hacksw/handcal//NONSGML v1.0//EN
CALSCALE:GREGORIAN
BEGIN:VTIMEZONE
TZID:Europe/London
BEGIN:STANDARD
TZNAME:GMT
DTSTART:19710101T020000
TZOFFSETFROM:+0100
TZOFFSETTO:+0000
RRULE:FREQ=YEARLY;BYMONTH=10;BYDAY=-1SU
END:STANDARD
BEGIN:DAYLIGHT
TZNAME:BST
DTSTART:19710101T010000
TZOFFSETFROM:+0000
TZOFFSETTO:+0100
RRULE:FREQ=YEARLY;BYMONTH=3;BYDAY=-1SU
END:DAYLIGHT
END:VTIMEZONE
BEGIN:VEVENT
DTEND;TZID=Europe/London:20130227T000000
UID:69e745aa56f23
DTSTAMP;TZID=Europe/London:20260421T093850Z
LOCATION:LSE
DESCRIPTION:<strong>Speaker:</strong> <a href="http://faculty.unibocconi.eu/valentinabosetti/">Valentina Bosetti</a>\, Bocconi University and FEEM

<a title="Climate Change and Environment Research Seminar Series (RSS)" href="http://www.lse.ac.uk/GranthamInstitute/events/climate-change-and-environment-research-seminar-series-rss/" target="_blank">Part of the Climate Change and Research Seminar Series (RSS)</a>
<h2>More information</h2>
<a>Seminar paper</a>
URL;VALUE=URI:https://www.cccep.ac.uk/event/incentives-and-stability-of-international-climate-coalitions-an-integrated-assessment/
SUMMARY:Valentina Bosetti – Incentives and Stability of International Climate Coalitions: an integrated assessment
DTSTART;TZID=Europe/London:20130227T000000
END:VEVENT
END:VCALENDAR