BEGIN:VCALENDAR
VERSION:2.0
PRODID:-//hacksw/handcal//NONSGML v1.0//EN
CALSCALE:GREGORIAN
BEGIN:VTIMEZONE
TZID:Europe/London
BEGIN:STANDARD
TZNAME:GMT
DTSTART:19710101T020000
TZOFFSETFROM:+0100
TZOFFSETTO:+0000
RRULE:FREQ=YEARLY;BYMONTH=10;BYDAY=-1SU
END:STANDARD
BEGIN:DAYLIGHT
TZNAME:BST
DTSTART:19710101T010000
TZOFFSETFROM:+0000
TZOFFSETTO:+0100
RRULE:FREQ=YEARLY;BYMONTH=3;BYDAY=-1SU
END:DAYLIGHT
END:VTIMEZONE
BEGIN:VEVENT
DTEND;TZID=Europe/London:20171010T193000
UID:69e670e002d59
DTSTAMP;TZID=Europe/London:20260420T183056Z
LOCATION:University of Leeds
DESCRIPTION:<span style="color: #000000\; font-family: Calibri\;">Following the successful public launch of </span><a href="http://leeds.candocities.org/"> Leeds Climate Commission</a><span style="color: #000000\; font-family: Calibri\;"> on September 7\, the first Leeds Climate Forum will be an open consultation on the Commission's report\, </span><a href="http://leeds.candocities.org/our-energy-and-carbon-plan">'A Low Carbon Strategy for Leeds' .</a>

<span style="color: #000000\; font-family: Calibri\;"> </span><span style="color: #000000\; font-family: Calibri\;">Commission Chair </span><a href="http://www.see.leeds.ac.uk/people/a.gouldson">Professor Andy Gouldson</a><span style="color: #000000\; font-family: Calibri\;"> will present the strategy\, outlining a range of cost-effective options. Using a workshop format\, forum attendees will be asked to feed back on three key issues:</span>

<span style="color: #000000\; font-family: Calibri\;"> </span><span style="color: #000000\; font-family: Calibri\;">- What can be done to close the gap between the emission reductions that the city is currently on track to achieve and what it must achieve to meet its targets\;</span>

<span style="color: #000000\; font-family: Calibri\;">- What are the most significant actions the city should take to ensure that it reaches its targets\;</span>

<span style="color: #000000\; font-family: Calibri\;">- What are the practical challenges of achieving these actions and how can they be overcome.</span>

All are welcome!  Find out more and sign up via the Eventbrite page: <a href="https://leedsclimateforum.eventbrite.co.uk/">https://leedsclimateforum.eventbrite.co.uk</a>
URL;VALUE=URI:https://www.cccep.ac.uk/event/leeds-climate-commission-first-forum-event/
SUMMARY:Leeds Climate Commission – First forum event – All welcome!
DTSTART;TZID=Europe/London:20171010T180000
END:VEVENT
END:VCALENDAR