BEGIN:VCALENDAR
VERSION:2.0
PRODID:-//hacksw/handcal//NONSGML v1.0//EN
CALSCALE:GREGORIAN
BEGIN:VTIMEZONE
TZID:Europe/London
BEGIN:STANDARD
TZNAME:GMT
DTSTART:19710101T020000
TZOFFSETFROM:+0100
TZOFFSETTO:+0000
RRULE:FREQ=YEARLY;BYMONTH=10;BYDAY=-1SU
END:STANDARD
BEGIN:DAYLIGHT
TZNAME:BST
DTSTART:19710101T010000
TZOFFSETFROM:+0000
TZOFFSETTO:+0100
RRULE:FREQ=YEARLY;BYMONTH=3;BYDAY=-1SU
END:DAYLIGHT
END:VTIMEZONE
BEGIN:VEVENT
DTEND;TZID=Europe/London:20140226T000000
UID:69e7ec723b9a5
DTSTAMP;TZID=Europe/London:20260421T213026Z
LOCATION:8.119\, Seminar Rooms 1\,2 & 3\, School of Earth and Environment.
DESCRIPTION:<strong>Synopsis:</strong> 
China's relationship with energy security\, climate change and low carbon development in complex. With China's emissions growth accounting for more than half the global total\, its efforts to transition to a low carbon economy will be critical in tackling global climate change. We will outline the reasons for the surge in emissions from China in recent decades\, review the various drivers and economic mechanisms for reducing energy demand and carbon emissions and explore the barriers which may challenge China's mitigation efforts. The country's efforts on renewable energy development will be case studied in this regard.
URL;VALUE=URI:https://www.cccep.ac.uk/event/low-carbon-development-in-china/
SUMMARY:Low Carbon Development in China
DTSTART;TZID=Europe/London:20140226T000000
END:VEVENT
END:VCALENDAR