BEGIN:VCALENDAR
VERSION:2.0
PRODID:-//hacksw/handcal//NONSGML v1.0//EN
CALSCALE:GREGORIAN
BEGIN:VTIMEZONE
TZID:Europe/London
BEGIN:STANDARD
TZNAME:GMT
DTSTART:19710101T020000
TZOFFSETFROM:+0100
TZOFFSETTO:+0000
RRULE:FREQ=YEARLY;BYMONTH=10;BYDAY=-1SU
END:STANDARD
BEGIN:DAYLIGHT
TZNAME:BST
DTSTART:19710101T010000
TZOFFSETFROM:+0000
TZOFFSETTO:+0100
RRULE:FREQ=YEARLY;BYMONTH=3;BYDAY=-1SU
END:DAYLIGHT
END:VTIMEZONE
BEGIN:VEVENT
DTEND;TZID=Europe/London:20170322T140000
UID:69e700007af0a
DTSTAMP;TZID=Europe/London:20260421T044136Z
LOCATION:London School of Economics\, Tower 2\, Room 9.04
DESCRIPTION:<a href="https://www.law.umn.edu/profiles/hari-osofsky">Hari Osofsky</a>\, Robins Kaplan Professor and Faculty Director of the Energy Transition Lab at the University of Minnesota Law School\, will be the speaker at this event.
URL;VALUE=URI:https://www.cccep.ac.uk/event/rss-hari-osofsky/
SUMMARY:RSS | Hari Osofsky
DTSTART;TZID=Europe/London:20170322T123000
END:VEVENT
END:VCALENDAR