BEGIN:VCALENDAR
VERSION:2.0
PRODID:-//hacksw/handcal//NONSGML v1.0//EN
CALSCALE:GREGORIAN
BEGIN:VTIMEZONE
TZID:Europe/London
BEGIN:STANDARD
TZNAME:GMT
DTSTART:19710101T020000
TZOFFSETFROM:+0100
TZOFFSETTO:+0000
RRULE:FREQ=YEARLY;BYMONTH=10;BYDAY=-1SU
END:STANDARD
BEGIN:DAYLIGHT
TZNAME:BST
DTSTART:19710101T010000
TZOFFSETFROM:+0000
TZOFFSETTO:+0100
RRULE:FREQ=YEARLY;BYMONTH=3;BYDAY=-1SU
END:DAYLIGHT
END:VTIMEZONE
BEGIN:VEVENT
DTEND;TZID=Europe/London:20160323T000000
UID:69e745752e450
DTSTAMP;TZID=Europe/London:20260421T093757Z
LOCATION:London School of Economics\, Tower 2\, Room 9.04
DESCRIPTION:Prof. Jeroen van den Bergh\, ICREA Research Professor at Universitat Autònoma de Barcelona (UAB)\, will be the speaker at this event.
URL;VALUE=URI:https://www.cccep.ac.uk/event/rss-jeroen-van-den-bergh/
SUMMARY:RSS | Jeroen van den Bergh
DTSTART;TZID=Europe/London:20160323T000000
END:VEVENT
END:VCALENDAR