BEGIN:VCALENDAR
VERSION:2.0
PRODID:-//hacksw/handcal//NONSGML v1.0//EN
CALSCALE:GREGORIAN
BEGIN:VTIMEZONE
TZID:Europe/London
BEGIN:STANDARD
TZNAME:GMT
DTSTART:19710101T020000
TZOFFSETFROM:+0100
TZOFFSETTO:+0000
RRULE:FREQ=YEARLY;BYMONTH=10;BYDAY=-1SU
END:STANDARD
BEGIN:DAYLIGHT
TZNAME:BST
DTSTART:19710101T010000
TZOFFSETFROM:+0000
TZOFFSETTO:+0100
RRULE:FREQ=YEARLY;BYMONTH=3;BYDAY=-1SU
END:DAYLIGHT
END:VTIMEZONE
BEGIN:VEVENT
DTEND;TZID=Europe/London:20141104T000000
UID:69e807e3f3f35
DTSTAMP;TZID=Europe/London:20260421T232731Z
LOCATION:The ESRC Centre for Climate Change Economics and Policy
DESCRIPTION:<em>‘The future of climate science and policy’</em>

Chair: Jouni Paavola\, Professor of Sustainability Research & Director of the ESRC Centre for Climate Change Economics & Policy
Expert Panel of IPCC Authors:
John Barrett\, Professor in Ecological Economics\;
Andy Challinor\, Professor of Climate Impacts\; 
Suraje Dessai\, Professor of Climate Change Adaptation\;
Piers Forster\, Professor of Physical Climate Change

Presentations:
<a href="http://www.cccep.ac.uk/Publications/Event-Presentations/ESRC-Festival-Debate---Introduction.pdf">Introductory presentation</a>
<a href="http://www.cccep.ac.uk/Publications/Event-Presentations/ESRC-Festival-Debate---Forster.pdf" target="_blank">Presentation by Piers Forster - Key messages from the IPCC Fifth Assessment Report Synthesis Report</a>
<a href="http://www.cccep.ac.uk/Publications/Event-Presentations/ESRC-Festival-Debate---Barrett.pdf" target="_blank">Presentation by John Barrett - Climate Change Mitigation</a>
<a href="http://www.cccep.ac.uk/Publications/Event-Presentations/ESRC-Festival-Debate---Challinor.pdf" target="_blank">Presentation by Andy Challinor - The vulnerability of food systems to climate change</a>
<a href="http://www.cccep.ac.uk/Publications/Event-Presentations/ESRC-Festival-Debate-Dessai.pdf" target="_blank">Presentation by Suraje Dessai - Impacts\, adaptation and vulnerability </a>
URL;VALUE=URI:https://www.cccep.ac.uk/event/the-esrc-centre-for-climate-change-economics-and-policys-2014-festival-debate/
SUMMARY:The ESRC Centre for Climate Change Economics and Policy’s 2014 Festival Debate
DTSTART;TZID=Europe/London:20141104T000000
END:VEVENT
END:VCALENDAR