BEGIN:VCALENDAR
VERSION:2.0
PRODID:-//hacksw/handcal//NONSGML v1.0//EN
CALSCALE:GREGORIAN
BEGIN:VTIMEZONE
TZID:Europe/London
BEGIN:STANDARD
TZNAME:GMT
DTSTART:19710101T020000
TZOFFSETFROM:+0100
TZOFFSETTO:+0000
RRULE:FREQ=YEARLY;BYMONTH=10;BYDAY=-1SU
END:STANDARD
BEGIN:DAYLIGHT
TZNAME:BST
DTSTART:19710101T010000
TZOFFSETFROM:+0000
TZOFFSETTO:+0100
RRULE:FREQ=YEARLY;BYMONTH=3;BYDAY=-1SU
END:DAYLIGHT
END:VTIMEZONE
BEGIN:VEVENT
DTEND;TZID=Europe/London:20210215T200000
UID:69eb2723bf676
DTSTAMP;TZID=Europe/London:20260424T081739Z
LOCATION:Online (via Zoom) event
DESCRIPTION:Vested interests profiting from our reliance on fossil fuels and their enablers in the policy and media arenas have for decades sought to undermine the scientific consensus behind human-caused climate change. The motive? Forestalling efforts to decarbonize our economy. As the impacts of climate change have now become too obvious to deny\, the forces of inaction—the inactivists–have now instead engaged in a multi-pronged strategy of distraction\, deflection\, division\, and despair-mongering. They have (a) pursued a divide-and-conquer strategy of sowing division among climate activists and advocates\, (b) deflected attention from systemic change and regulatory policy solutions to personal behaviour\, (c) promoted false solutions that enable the continued burning of fossil fuels at the very root of the problem and (d) fomented doomist framing that disempowers us by making catastrophic change now seem inevitable. I will discuss what we can do to fight back\, emphasizing the importance of both urgency AND agency in the effort to save our planet from catastrophic warming.
<h3>Biography</h3>
Dr. Michael E. Mann is Distinguished Professor of <a class="link link--external" title="" href="http://ploneprod.met.psu.edu/" target="_blank" rel="noopener" aria-describedby="link-description-new-window">Atmospheric Science</a> at <a class="link link--external" title="" href="http://www.psu.edu/" target="_blank" rel="noopener" aria-describedby="link-description-new-window">Penn State</a>\, with joint appointments in the Department of <a class="link link--external" title="" href="http://www.geosc.psu.edu/" target="_blank" rel="noopener" aria-describedby="link-description-new-window">Geosciences</a> and the <a class="link link--external" title="" href="http://www.eesi.psu.edu/" target="_blank" rel="noopener" aria-describedby="link-description-new-window">Earth and Environmental Systems Institute</a> (EESI). He is also director of the Penn State <a class="link link--external" title="" href="http://www.essc.psu.edu/" target="_blank" rel="noopener" aria-describedby="link-description-new-window">Earth System Science Center</a> (ESSC).

Dr. Mann received his undergraduate degrees in Physics and Applied Math from the University of California at Berkeley\, an M.S. degree in Physics from Yale University\, and a Ph.D. in Geology & Geophysics from Yale University. His research involves the use of theoretical models and observational data to better understand Earth’s climate system.

Dr. Mann was a Lead Author on the <em>Observed Climate Variability and Change</em> chapter of the Intergovernmental Panel on Climate Change (IPCC) Third Scientific Assessment Report in 2001 and was organizing committee chair for the National Academy of Sciences <em>Frontiers of Science</em> in 2003. He has received a number of honors and awards including NOAA’s outstanding publication award in 2002 and selection by <em>Scientific American</em> as one of the fifty leading visionaries in science and technology in 2002. He contributed\, with other IPCC authors\, to the award of the 2007 Nobel Peace Prize. He was awarded the Hans Oeschger Medal of the European Geosciences Union in 2012 and was awarded the National Conservation Achievement Award for science by the National Wildlife Federation in 2013. He made Bloomberg News’ list of fifty most influential people in 2013. In 2014\, he was named Highly Cited Researcher by the Institute for Scientific Information (ISI) and received the Friend of the Planet Award from the National Center for Science Education. He received the Stephen H. Schneider Award for Outstanding Climate Science Communication from Climate One in 2017\, the Award for Public Engagement with Science from the American Association for the Advancement of Science in 2018 and the Climate Communication Prize from the American Geophysical Union in 2018. In 2019 he received the Tyler Prize for Environmental Achievement and in 2020 he received the World Sustainability Award of the MDPI Sustainability Foundation. He was elected to the U.S. National Academy of Sciences in 2020. He is a Fellow of the American Geophysical Union\, the American Meteorological Society\, the Geological Society of America\, the American Association for the Advancement of Science\, and the Committee for Skeptical Inquiry. He is also a co-founder of the award-winning science website <a class="link link--external" title="" href="http://www.realclimate.org/" target="_blank" rel="noopener" aria-describedby="link-description-new-window">RealClimate.org</a>.

Dr. Mann is author of more than 200 peer-reviewed and edited publications\, numerous op-eds and commentaries\, and five books including <a href="http://www.direpredictions.com/"><em>Dire Predictions: Understanding Climate Change</em></a>\, <a href="http://www.thehockeystickandtheclimatewars.com/"><em>The Hockey Stick and the Climate Wars: Dispatches from the Front Lines</em></a>\, <a href="http://www.themadhouseeffect.com/"><em>The Madhouse Effect: How Climate Change Denial is Threatening our Planet\, Destroying Our Politics\, and Driving Us Crazy </em></a>and <a href="http://michaelmann.net/content/tantrum-saved-world-carbon-neutral-kids-book"><em>The Tantrum that Saved the World</em></a>. Forthcoming in early 2021 is <a href="http://www.thenewclimatewar.com/"><em>The New Climate War: The Fight to Take Back Our Planet</em></a><em>.</em>

<hr class="wp-block-separator" />

<h3>How can I join?</h3>
This event is being held online (via Zoom). <a class="link link--external" title="" href="https://lse.zoom.us/webinar/register/WN_WO2bzAH7QJ6aBCMVE1tNiw" target="_blank" rel="noopener" aria-describedby="link-description-new-window">Register in advance for this webinar</a>
After registering\, you will receive a confirmation email containing information about joining the webinar.
URL;VALUE=URI:https://www.cccep.ac.uk/event/the-new-climate-war-the-fight-to-take-back-our-planet-michael-e-mann/
SUMMARY:The New Climate War: The Fight to Take Back Our Planet: Michael E. Mann
DTSTART;TZID=Europe/London:20210215T183000
END:VEVENT
END:VCALENDAR