BEGIN:VCALENDAR
VERSION:2.0
PRODID:-//hacksw/handcal//NONSGML v1.0//EN
CALSCALE:GREGORIAN
BEGIN:VTIMEZONE
TZID:Europe/London
BEGIN:STANDARD
TZNAME:GMT
DTSTART:19710101T020000
TZOFFSETFROM:+0100
TZOFFSETTO:+0000
RRULE:FREQ=YEARLY;BYMONTH=10;BYDAY=-1SU
END:STANDARD
BEGIN:DAYLIGHT
TZNAME:BST
DTSTART:19710101T010000
TZOFFSETFROM:+0000
TZOFFSETTO:+0100
RRULE:FREQ=YEARLY;BYMONTH=3;BYDAY=-1SU
END:DAYLIGHT
END:VTIMEZONE
BEGIN:VEVENT
DTEND;TZID=Europe/London:20160224T145737
UID:69e87c41bd7bd
DTSTAMP;TZID=Europe/London:20260422T074401Z
LOCATION:School of Earth and Environment Seminar Rooms 8.119\, University of Leeds
DESCRIPTION:
URL;VALUE=URI:https://www.cccep.ac.uk/event/to-ecologise-economics-or-to-economise-ecology-the-ecosystem-services-crossroads/
SUMMARY:To ecologise economics or to economise ecology: The ecosystem services crossroads
DTSTART;TZID=Europe/London:20160224T000000
END:VEVENT
END:VCALENDAR