BEGIN:VCALENDAR
VERSION:2.0
PRODID:-//hacksw/handcal//NONSGML v1.0//EN
CALSCALE:GREGORIAN
BEGIN:VTIMEZONE
TZID:Europe/London
BEGIN:STANDARD
TZNAME:GMT
DTSTART:19710101T020000
TZOFFSETFROM:+0100
TZOFFSETTO:+0000
RRULE:FREQ=YEARLY;BYMONTH=10;BYDAY=-1SU
END:STANDARD
BEGIN:DAYLIGHT
TZNAME:BST
DTSTART:19710101T010000
TZOFFSETFROM:+0000
TZOFFSETTO:+0100
RRULE:FREQ=YEARLY;BYMONTH=3;BYDAY=-1SU
END:DAYLIGHT
END:VTIMEZONE
BEGIN:VEVENT
DTEND;TZID=Europe/London:20140122T000000
UID:69e7ed2717d81
DTSTAMP;TZID=Europe/London:20260421T213327Z
LOCATION:School of Earth and Environment\, University of Leeds
DESCRIPTION:
URL;VALUE=URI:https://www.cccep.ac.uk/event/up-in-flames-past-present-and-future-of-redd/
SUMMARY:Up in Flames: Past\, Present and Future of REDD+
DTSTART;TZID=Europe/London:20140122T000000
END:VEVENT
END:VCALENDAR